BEGIN:VCALENDAR
VERSION:2.0
PRODID:-//Arkansas Radio - ECPv6.15.20//NONSGML v1.0//EN
CALSCALE:GREGORIAN
METHOD:PUBLISH
X-ORIGINAL-URL:https://arkansasradio.com
X-WR-CALDESC:Events for Arkansas Radio
REFRESH-INTERVAL;VALUE=DURATION:PT1H
X-Robots-Tag:noindex
X-PUBLISHED-TTL:PT1H
BEGIN:VTIMEZONE
TZID:UTC
BEGIN:STANDARD
TZOFFSETFROM:+0000
TZOFFSETTO:+0000
TZNAME:UTC
DTSTART:20240101T000000
END:STANDARD
END:VTIMEZONE
BEGIN:VEVENT
DTSTART;TZID=UTC:20251203T100000
DTEND;TZID=UTC:20251203T140000
DTSTAMP:20260425T182959
CREATED:20251128T220248Z
LAST-MODIFIED:20251128T220248Z
UID:12854-1764756000-1764770400@arkansasradio.com
SUMMARY:VFW 4513 in Fairfield Bay Auxiliary Hosting Holiday Toy Drive December 3
DESCRIPTION:The VFW 4513 Auxiliary is inviting the community to help brighten the holidays for local foster children during its Holiday Toy Drive\, set for December 3 from 10 a.m. to 2 p.m. at Woodland Meade Park in Fairfield Bay. \nOrganizers are collecting new\, unwrapped toys as well as cash donations. All contributions will directly benefit Van Buren County foster children\, helping ensure every child receives a special gift this Christmas season. \nResidents are encouraged to stop by the drop-off site anytime during the event window to donate and support local families in need. \nFor more information\, community members may contact VFW 4513 Auxiliary representatives or follow local event announcements. \n 
URL:https://arkansasradio.com/event/vfw-4513-in-fairfield-bay-auxiliary-hosting-holiday-toy-drive-december-3/
ATTACH;FMTTYPE=image/jpeg:https://arkansasradio.com/wp-content/uploads/2025/11/1000024194-1.jpg
END:VEVENT
END:VCALENDAR