BEGIN:VCALENDAR
VERSION:2.0
PRODID:-//Arkansas Radio - ECPv6.15.20//NONSGML v1.0//EN
CALSCALE:GREGORIAN
METHOD:PUBLISH
X-WR-CALNAME:Arkansas Radio
X-ORIGINAL-URL:https://arkansasradio.com
X-WR-CALDESC:Events for Arkansas Radio
REFRESH-INTERVAL;VALUE=DURATION:PT1H
X-Robots-Tag:noindex
X-PUBLISHED-TTL:PT1H
BEGIN:VTIMEZONE
TZID:UTC
BEGIN:STANDARD
TZOFFSETFROM:+0000
TZOFFSETTO:+0000
TZNAME:UTC
DTSTART:20250101T000000
END:STANDARD
END:VTIMEZONE
BEGIN:VEVENT
DTSTART;TZID=UTC:20260314T180000
DTEND;TZID=UTC:20260314T200000
DTSTAMP:20260420T073832
CREATED:20260309T151623Z
LAST-MODIFIED:20260309T151623Z
UID:15254-1773511200-1773518400@arkansasradio.com
SUMMARY:Center on the Square Hosting 2nd Annual Trivia Night in This Saturday Night Searcy
DESCRIPTION:Community members are invited to test their knowledge and support local theater during the 2nd Annual Trivia Night hosted by Center on the Square in Searcy. \n \nThe event will take place Saturday night at 6:00 PM at 219 West Arch Avenue in downtown Searcy. \nOrganizers say the evening will feature a fun and competitive trivia challenge with several prizes awarded throughout the night. \nPrizes and Dinner Included \nAwards will be given for: \n• Trivia Champions\n• Most Team Spirit\n• Door prize winners throughout the evening \nDinner will also be included with the event\, featuring food from KnightFire BBQ. \nLimited Seating Available \nThe cost to participate is $180 per table for up to 6 people\, and organizers say seating is limited. \nProceeds from the event will help support local theater programming and community arts initiatives at Center on the Square. \nCommunity members interested in participating are encouraged to reserve a table in advance. \nTables can be reserved online at:\nhttps://centeronthesquare.org \nIf you have information you would like to share with the ArkansasRadio.com radio stations submit your event at:\nhttps://arkansasradio.com/submit-event/
URL:https://arkansasradio.com/event/center-on-the-square-hosting-2nd-annual-trivia-night-in-this-saturday-night-searcy/
ATTACH;FMTTYPE=image/jpeg:https://arkansasradio.com/wp-content/uploads/2026/03/team_building_with_trivia_1456x.jpg
END:VEVENT
END:VCALENDAR