BEGIN:VCALENDAR
VERSION:2.0
PRODID:-//Arkansas Radio - ECPv6.15.20//NONSGML v1.0//EN
CALSCALE:GREGORIAN
METHOD:PUBLISH
X-ORIGINAL-URL:https://arkansasradio.com
X-WR-CALDESC:Events for Arkansas Radio
REFRESH-INTERVAL;VALUE=DURATION:PT1H
X-Robots-Tag:noindex
X-PUBLISHED-TTL:PT1H
BEGIN:VTIMEZONE
TZID:UTC
BEGIN:STANDARD
TZOFFSETFROM:+0000
TZOFFSETTO:+0000
TZNAME:UTC
DTSTART:20240101T000000
END:STANDARD
END:VTIMEZONE
BEGIN:VEVENT
DTSTART;TZID=UTC:20251114T190000
DTEND;TZID=UTC:20251114T210000
DTSTAMP:20260421T225446
CREATED:20251106T202747Z
LAST-MODIFIED:20251106T202747Z
UID:12420-1763146800-1763154000@arkansasradio.com
SUMMARY:Lyon College in Batesville Gospel Choir to Present “Holy Forever” Fall Concert
DESCRIPTION:The Lyon College Gospel Choir will host its fall concert\, “Holy Forever\,” at 7 p.m. Friday\, November 14\, in the Bevens Music Room of the Brown Fine Arts Building\, 2300 Highland Rd. in Batesville. Admission is free and open to the public. \nThe concert will feature gospel selections including “Holy Forever” by CeCe Winans\, “I Trust in God” by Aware Worship\, and “Every Day Is a Day of Thanksgiving” by Dr. Charles Hayes. \nDirector Barretta Robinson said the program is a heartfelt celebration of faith and community\, giving thanks for the choir’s dedication and God’s enduring holiness. \nLyon College Gospel Choir Fall ’25\nFor more information\, contact Robinson at Barretta.Robinson@Lyon.edu
URL:https://arkansasradio.com/event/lyon-college-in-batesville-gospel-choir-to-present-holy-forever-fall-concert/
ATTACH;FMTTYPE=image/jpeg:https://arkansasradio.com/wp-content/uploads/2025/11/Lyon-College-Gospel-Choir-Fall-25.jpg
END:VEVENT
END:VCALENDAR