BEGIN:VCALENDAR
VERSION:2.0
PRODID:-//Arkansas Radio - ECPv6.15.20//NONSGML v1.0//EN
CALSCALE:GREGORIAN
METHOD:PUBLISH
X-ORIGINAL-URL:https://arkansasradio.com
X-WR-CALDESC:Events for Arkansas Radio
REFRESH-INTERVAL;VALUE=DURATION:PT1H
X-Robots-Tag:noindex
X-PUBLISHED-TTL:PT1H
BEGIN:VTIMEZONE
TZID:UTC
BEGIN:STANDARD
TZOFFSETFROM:+0000
TZOFFSETTO:+0000
TZNAME:UTC
DTSTART:20250101T000000
END:STANDARD
END:VTIMEZONE
BEGIN:VEVENT
DTSTART;TZID=UTC:20260207T163000
DTEND;TZID=UTC:20260207T200000
DTSTAMP:20260420T163714
CREATED:20260119T015719Z
LAST-MODIFIED:20260121T154132Z
UID:13918-1770481800-1770494400@arkansasradio.com
SUMMARY:RESCHEDULED :John 3:16 Ministries Winter Blast Fundraiser Returns February 7 in Charlotte
DESCRIPTION:John 3:16 Ministries in Charlotte is inviting the community to its popular Winter Blast Fundraiser on Saturday\, February 7\, offering an evening of food\, fellowship\, and live entertainment. \n \nThe intimate fundraising event gives guests an opportunity to connect with camp leadership while enjoying a night of laughs featuring live skits inspired by favorite television shows and movies such as Friends\, The Golden Girls\, Home Improvement\, and Star Wars. \nGuests will enjoy a hearty dinner featuring catfish\, chicken\, and all the trimmings. Gates open at 4:30 p.m.\, dinner will be served at 5 p.m.\, followed by a live auction at 6 p.m. before the entertainment begins. \nOrganizers say the event helps support the ministry’s ongoing programs and outreach efforts while providing a fun\, family-friendly atmosphere for supporters and sponsors. \nTables are available for $500 and seat up to eight guests. Reservations can be made by calling 870-799-2525. \nCommunity members are encouraged to reserve early\, as seating is limited. \nAlso\, if you have information you would like to share with the ArkansasRadio.com radio stations\, submit your event at:\n https://arkansasradio.com/submit-event/ \n 
URL:https://arkansasradio.com/event/john-316-ministries-winter-blast-fundraiser-returns-january-24-in-charlotte/
ATTACH;FMTTYPE=image/jpeg:https://arkansasradio.com/wp-content/uploads/2026/01/image0-9.jpeg
END:VEVENT
END:VCALENDAR