BEGIN:VCALENDAR
VERSION:2.0
PRODID:-//Arkansas Radio - ECPv6.15.20//NONSGML v1.0//EN
CALSCALE:GREGORIAN
METHOD:PUBLISH
X-ORIGINAL-URL:https://arkansasradio.com
X-WR-CALDESC:Events for Arkansas Radio
REFRESH-INTERVAL;VALUE=DURATION:PT1H
X-Robots-Tag:noindex
X-PUBLISHED-TTL:PT1H
BEGIN:VTIMEZONE
TZID:UTC
BEGIN:STANDARD
TZOFFSETFROM:+0000
TZOFFSETTO:+0000
TZNAME:UTC
DTSTART:20250101T000000
END:STANDARD
END:VTIMEZONE
BEGIN:VEVENT
DTSTART;TZID=UTC:20260313T100000
DTEND;TZID=UTC:20260313T234500
DTSTAMP:20260420T032321
CREATED:20260308T173456Z
LAST-MODIFIED:20260308T173456Z
UID:15240-1773396000-1773445500@arkansasradio.com
SUMMARY:Stanley Pharmacy Hosting Free Blood Pressure Screening in Searcy March 13
DESCRIPTION:Stanley Pharmacy is inviting the community to take advantage of a Free Blood Pressure Screening in Searcy on Friday\, March 13. \n \nThe screening will be held from 10:00 a.m. to 11:45 a.m. at the Janet and Larry Crain Memorial Library\, located at 1609 West Beebe-Capps Expressway. \nPharmacists will be on-site to provide complimentary blood pressure checks and share information about cardiovascular protection and heart health. The event is open to anyone who wants to better understand their blood pressure numbers and overall wellness. \nOrganizers say routine blood pressure monitoring is an important step in preventing heart disease and stroke. No appointment is required. \nFor those unable to attend\, Stanley Pharmacy offers blood pressure checks year-round at its Searcy location. \nCommunity members are encouraged to stop by\, get screened\, and learn more about protecting their heart health. \nIf you have information you would like to share with the ArkansasRadio.com radio stations\, submit your event at:\n👉 https://arkansasradio.com/submit-event/ \n 
URL:https://arkansasradio.com/event/stanley-pharmacy-hosting-free-blood-pressure-screening-in-searcy-march-13/
ATTACH;FMTTYPE=image/jpeg:https://arkansasradio.com/wp-content/uploads/2026/03/Stanley-Pharmacy-Crew-Blood-Pressure-Test.jpg
END:VEVENT
END:VCALENDAR