BEGIN:VCALENDAR
VERSION:2.0
PRODID:-//Arkansas Radio - ECPv6.15.20//NONSGML v1.0//EN
CALSCALE:GREGORIAN
METHOD:PUBLISH
X-ORIGINAL-URL:https://arkansasradio.com
X-WR-CALDESC:Events for Arkansas Radio
REFRESH-INTERVAL;VALUE=DURATION:PT1H
X-Robots-Tag:noindex
X-PUBLISHED-TTL:PT1H
BEGIN:VTIMEZONE
TZID:UTC
BEGIN:STANDARD
TZOFFSETFROM:+0000
TZOFFSETTO:+0000
TZNAME:UTC
DTSTART:20250101T000000
END:STANDARD
END:VTIMEZONE
BEGIN:VEVENT
DTSTART;TZID=UTC:20260306T110000
DTEND;TZID=UTC:20260306T140000
DTSTAMP:20260425T033455
CREATED:20260306T155413Z
LAST-MODIFIED:20260306T155413Z
UID:15165-1772794800-1772805600@arkansasradio.com
SUMMARY:First Church of Quitman Palm Sunday Service Scheduled for March 29\, 2026
DESCRIPTION:The First Church of Quitman will host a Palm Sunday Service Quitman Arkansas event on 03/29/2026 at 11:00 am as the community gathers to mark the beginning of Holy Week. \n \nThe service will take place at First Church of Quitman 44 College Street in Quitman\, Arkansas\, 72131. Church leaders say the worship service will commemorate Jesus’ triumphant arrival in Jerusalem\, a significant moment in the Christian calendar leading into Easter Sunday. \nFollowing the 11:00 am service\, attendees are invited to remain for a potluck lunch and fellowship. Organizers emphasize that the event is open to the public and all are welcome to attend. \nFor additional information\, contact Pastor Mike Yarman at 501-253-1009 or email meyarman@gmail.com \nIf you have information you would like to share with the ArkansasRadio.com radio stations\, submit your event at https://arkansasradio.com/submit-event/
URL:https://arkansasradio.com/event/palm-sunday-service-quitman-arkansas-scheduled-for-03-29-2026-at-first-church-of-quitman/
ATTACH;FMTTYPE=image/jpeg:https://arkansasradio.com/wp-content/uploads/2026/03/First-Church-of-Quitman.jpg
END:VEVENT
END:VCALENDAR