BEGIN:VCALENDAR
VERSION:2.0
PRODID:-//Arkansas Radio - ECPv6.15.20//NONSGML v1.0//EN
CALSCALE:GREGORIAN
METHOD:PUBLISH
X-WR-CALNAME:Arkansas Radio
X-ORIGINAL-URL:https://arkansasradio.com
X-WR-CALDESC:Events for Arkansas Radio
REFRESH-INTERVAL;VALUE=DURATION:PT1H
X-Robots-Tag:noindex
X-PUBLISHED-TTL:PT1H
BEGIN:VTIMEZONE
TZID:UTC
BEGIN:STANDARD
TZOFFSETFROM:+0000
TZOFFSETTO:+0000
TZNAME:UTC
DTSTART:20250101T000000
END:STANDARD
END:VTIMEZONE
BEGIN:VEVENT
DTSTART;VALUE=DATE:20260501
DTEND;VALUE=DATE:20260504
DTSTAMP:20260424T140125
CREATED:20260307T173059Z
LAST-MODIFIED:20260423T220613Z
UID:15215-1777593600-1777852799@arkansasradio.com
SUMMARY:44th Annual Toad Suck Days in Conway
DESCRIPTION:The 44th Annual Toad Suck Days in Conway will be held the first weekend in May. There will be concerts\, vendors\, and more! \n\nThere is so much to experience at Toad Suck Daze! Our family-friendly festival has something for all ages: concerts\, shopping\, carnival rides\, children’s activities\, and of course\, the World Championship Toad Races starring our amphibious friends. (Yes\, you read that right.) To top it off\, admission is FREE.
URL:https://arkansasradio.com/event/44th-annual-toad-suck-days-in-conway/
ATTACH;FMTTYPE=image/jpeg:https://arkansasradio.com/wp-content/uploads/2026/03/Toad-Suck-Daze.jpg
END:VEVENT
END:VCALENDAR