BEGIN:VCALENDAR
VERSION:2.0
PRODID:-//Arkansas Radio - ECPv6.15.20//NONSGML v1.0//EN
CALSCALE:GREGORIAN
METHOD:PUBLISH
X-WR-CALNAME:Arkansas Radio
X-ORIGINAL-URL:https://arkansasradio.com
X-WR-CALDESC:Events for Arkansas Radio
REFRESH-INTERVAL;VALUE=DURATION:PT1H
X-Robots-Tag:noindex
X-PUBLISHED-TTL:PT1H
BEGIN:VTIMEZONE
TZID:UTC
BEGIN:STANDARD
TZOFFSETFROM:+0000
TZOFFSETTO:+0000
TZNAME:UTC
DTSTART:20250101T000000
END:STANDARD
END:VTIMEZONE
BEGIN:VEVENT
DTSTART;TZID=UTC:20260502T170000
DTEND;TZID=UTC:20260502T200000
DTSTAMP:20260420T165255
CREATED:20260416T185808Z
LAST-MODIFIED:20260416T185808Z
UID:16315-1777741200-1777752000@arkansasradio.com
SUMMARY:Mountain View FFA Alumni Dinner and Auction Set May 2 to Support Students
DESCRIPTION:The Mountain View FFA will host its Alumni Dinner and Benefit Auction on Saturday\, May 2\, bringing the community together to support local students. \n \nThe event will take place at the Mountain View Elementary Gym\, 201 Elementary Drive\, with dinner beginning at 5:00 PM and a live auction starting at 6:00 PM\, conducted by Swafford Auctions. \nOrganizers say the evening will celebrate student achievements\, including a State Champion Meat Evaluation Team\, while raising funds for future educational opportunities\, competitions\, and FFA programs. \nCommunity members\, alumni\, and supporters are encouraged to attend and help invest in the next generation of agricultural leaders. \n📢 HAVE INFORMATION YOU WOULD LIKE TO SHARE? Submit your event to the ArkansasRadio.com radio stations at https://arkansasradio.com/submit-event/ \n 
URL:https://arkansasradio.com/event/mountain-view-ffa-alumni-dinner-and-auction-set-may-2-to-support-students/
ATTACH;FMTTYPE=image/jpeg:https://arkansasradio.com/wp-content/uploads/2026/04/Mountain-View-FFA.jpg
END:VEVENT
END:VCALENDAR