BEGIN:VCALENDAR
VERSION:2.0
PRODID:-//Arkansas Radio - ECPv6.15.20//NONSGML v1.0//EN
CALSCALE:GREGORIAN
METHOD:PUBLISH
X-ORIGINAL-URL:https://arkansasradio.com
X-WR-CALDESC:Events for Arkansas Radio
REFRESH-INTERVAL;VALUE=DURATION:PT1H
X-Robots-Tag:noindex
X-PUBLISHED-TTL:PT1H
BEGIN:VTIMEZONE
TZID:UTC
BEGIN:STANDARD
TZOFFSETFROM:+0000
TZOFFSETTO:+0000
TZNAME:UTC
DTSTART:20250101T000000
END:STANDARD
END:VTIMEZONE
BEGIN:VEVENT
DTSTART;VALUE=DATE:20260319
DTEND;VALUE=DATE:20260320
DTSTAMP:20260420T165631
CREATED:20260303T204923Z
LAST-MODIFIED:20260303T204923Z
UID:15125-1773878400-1773964799@arkansasradio.com
SUMMARY:MEET OUR ROBOTS at White River Medical Center – Hands-On Surgical Experience 3-19-2026
DESCRIPTION:The public is invited to visit the Thoracic Oncology Mobile Experience (TOME) Truck\, an 18-wheel\, 80\,000 pound mobile demonstration laboratory\, set up in the lower parking lot at 1710 Harrison St.\, Batesville\, to the right of Volunteer Way. The truck will be parked in the lot above the brick wall marked White River Medical Center. \n \n📍 Event Details \nDate: 3-19-2026 \nLocation: Lower Parking Lot\, 1710 Harrison St.\, Batesville \nOpen to the Public: \n10am – 11am \n2pm – 5pm \nThe TOME Truck houses 2 advanced surgical technologies used locally to diagnose and treat lung cancer: \nIon Robotic Bronchoscopy System \nda Vinci Robotic Surgical System \nThese robotic systems allow surgeons to perform minimally invasive procedures with enhanced precision\, improved visualization\, and advanced navigation inside the lungs. \nHospital officials say the event provides a hands-on opportunity for community members to see how robotic-assisted technology is transforming thoracic oncology and improving patient care right here in North Central Arkansas. \nAttendees will have the opportunity to step inside the mobile lab\, see demonstrations\, and learn how these robotic systems support earlier detection and advanced treatment options for lung cancer patients. \nWhite River Health continues to invest in cutting-edge medical advancements\, bringing innovative tools and expanded services to the Batesville region.
URL:https://arkansasradio.com/event/meet-our-robots-at-white-river-medical-center-hands-on-surgical-experience-3-19-2026/
ATTACH;FMTTYPE=image/jpeg:https://arkansasradio.com/wp-content/uploads/2026/03/General-Public.jpg
END:VEVENT
END:VCALENDAR