BEGIN:VCALENDAR
VERSION:2.0
PRODID:-//Arkansas Radio - ECPv6.15.20//NONSGML v1.0//EN
CALSCALE:GREGORIAN
METHOD:PUBLISH
X-ORIGINAL-URL:https://arkansasradio.com
X-WR-CALDESC:Events for Arkansas Radio
REFRESH-INTERVAL;VALUE=DURATION:PT1H
X-Robots-Tag:noindex
X-PUBLISHED-TTL:PT1H
BEGIN:VTIMEZONE
TZID:UTC
BEGIN:STANDARD
TZOFFSETFROM:+0000
TZOFFSETTO:+0000
TZNAME:UTC
DTSTART:20250101T000000
END:STANDARD
END:VTIMEZONE
BEGIN:VEVENT
DTSTART;VALUE=DATE:20260508
DTEND;VALUE=DATE:20260510
DTSTAMP:20260421T044129
CREATED:20260421T005005Z
LAST-MODIFIED:20260421T005005Z
UID:16453-1778198400-1778371199@arkansasradio.com
SUMMARY:Bald Knob Homefest 2026 Set for May 8–9 with Live Music\, Parade and Family Fun
DESCRIPTION:The annual Bald Knob Homefest 2026 is set to bring 2 days of family fun\, live music\, and community celebration to the Downtown Courtyard on May 8 and May 9. \nArkansasRadio.com Road Gang L-R Doc Deloach\, Hot Rod Todd Scott\, Greg Geary\, Homefest Headliner Jeff Bates\, owner Bob Connell Todd Scott\, Greg Geary\, Jeff Bates\, owner Bob Connell\nFestivities kick off Friday evening at 6 PM with a welcome ceremony and performances including Audra Moore singing the National Anthem\, along with Jetta Butler\, Michael Watkins\, Nola May & The Girls\, Velvet Ridge Church of God Choir\, and the Hometown Band.\nSaturday begins early with a 6 AM Rotary Pancake Breakfast\, followed by a 10 AM parade through downtown. The day continues with a full lineup of activities including a dog show\, strawberry eating contest\, burnout contest\, cake walk\, cornhole tournament\, and cake auction.\nFamilies can enjoy FREE kids games\, bounce houses\, vendors\, and the Fire Department Kid Zone throughout the day.\nLive music will take center stage Saturday afternoon and evening featuring Paetyn Ellis\, Bloodhound Band\, Chris Baker Band\, Memphis Yahoos\, 90 Proof\, and headliner Jeff Bates at 8 PM.\nOrganizers say Bald Knob Homefest continues to be one of the community’s biggest annual events\, bringing residents and visitors together for food\, entertainment\, and hometown tradition.\nFor more information\, contact 501-724-3140.
URL:https://arkansasradio.com/event/bald-knob-homefest-2026-set-for-may-8-9-with-live-music-parade-and-family-fun/
ATTACH;FMTTYPE=image/png:https://arkansasradio.com/wp-content/uploads/2024/07/breakingnewslogo-1.png
END:VEVENT
END:VCALENDAR