BEGIN:VCALENDAR
VERSION:2.0
PRODID:-//Arkansas Radio - ECPv6.15.20//NONSGML v1.0//EN
CALSCALE:GREGORIAN
METHOD:PUBLISH
X-WR-CALNAME:Arkansas Radio
X-ORIGINAL-URL:https://arkansasradio.com
X-WR-CALDESC:Events for Arkansas Radio
REFRESH-INTERVAL;VALUE=DURATION:PT1H
X-Robots-Tag:noindex
X-PUBLISHED-TTL:PT1H
BEGIN:VTIMEZONE
TZID:UTC
BEGIN:STANDARD
TZOFFSETFROM:+0000
TZOFFSETTO:+0000
TZNAME:UTC
DTSTART:20240101T000000
END:STANDARD
END:VTIMEZONE
BEGIN:VEVENT
DTSTART;VALUE=DATE:20251104
DTEND;VALUE=DATE:20251106
DTSTAMP:20260425T153610
CREATED:20251105T014840Z
LAST-MODIFIED:20251105T014840Z
UID:12391-1762214400-1762387199@arkansasradio.com
SUMMARY:Gravel Hill Freewill Baptist Church to Host “Be the Change” Fall Revival in Romance\, AR
DESCRIPTION:Gravel Hill Freewill Baptist Church will host its “Be the Change” fall revival from Tuesday through Thursday at 610 Gravel Hill Road in Romance. The event features speakers Steve Jones\, Dennis Starkey\, and Keith Roberson. \nOn Thursday\, the church will serve a free meal at 5:30 p.m.\, followed by the evening service. The revival invites the community to come together for worship\, inspiration\, and fellowship. \n 
URL:https://arkansasradio.com/event/gravel-hill-freewill-baptist-church-to-host-be-the-change-fall-revival-in-romance-ar/
ATTACH;FMTTYPE=image/jpeg:https://arkansasradio.com/wp-content/uploads/2025/11/Screenshot-2025-11-04-194706.jpg
END:VEVENT
END:VCALENDAR