BEGIN:VCALENDAR
VERSION:2.0
PRODID:-//Arkansas Radio - ECPv6.15.20//NONSGML v1.0//EN
CALSCALE:GREGORIAN
METHOD:PUBLISH
X-WR-CALNAME:Arkansas Radio
X-ORIGINAL-URL:https://arkansasradio.com
X-WR-CALDESC:Events for Arkansas Radio
REFRESH-INTERVAL;VALUE=DURATION:PT1H
X-Robots-Tag:noindex
X-PUBLISHED-TTL:PT1H
BEGIN:VTIMEZONE
TZID:UTC
BEGIN:STANDARD
TZOFFSETFROM:+0000
TZOFFSETTO:+0000
TZNAME:UTC
DTSTART:20240101T000000
END:STANDARD
END:VTIMEZONE
BEGIN:VEVENT
DTSTART;VALUE=DATE:20251018
DTEND;VALUE=DATE:20251118
DTSTAMP:20260422T012322
CREATED:20251018T003618Z
LAST-MODIFIED:20251018T003618Z
UID:12197-1760745600-1763423999@arkansasradio.com
SUMMARY:Kiwanis Club of Cabot Announces 2025 Thanksgiving Smoked Hams and Turkeys Fundraiser
DESCRIPTION:The Kiwanis Club of Cabot is now taking orders for their 2025 Thanksgiving smoked hams and turkeys. This annual fundraiser supports local schools by providing leadership opportunities\, volunteer programs\, and scholarships for graduating seniors. \n \nOrder Details: \nSmoked Hams (18–22 lbs): $75 \nSmoked Turkeys (10–12 lbs): $45 \nOrder Deadline: Monday\, November 17\, 2025 \nProceeds from this fundraiser help the Kiwanis Club continue its mission of supporting Cabot schools and students. For questions or to place an order\, contact Darlene Byrd at 501-337-6652 or CabotKiwanisclub1@gmail.com\n. \nDon’t miss your chance to enjoy delicious Thanksgiving smoked hams and turkeys while supporting local education!
URL:https://arkansasradio.com/event/kiwanis-club-of-cabot-announces-2025-thanksgiving-smoked-hams-and-turkeys-fundraiser/
ATTACH;FMTTYPE=image/jpeg:https://arkansasradio.com/wp-content/uploads/2025/10/1000023254.jpg
END:VEVENT
END:VCALENDAR