BEGIN:VCALENDAR
VERSION:2.0
PRODID:-//Arkansas Radio - ECPv6.15.20//NONSGML v1.0//EN
CALSCALE:GREGORIAN
METHOD:PUBLISH
X-ORIGINAL-URL:https://arkansasradio.com
X-WR-CALDESC:Events for Arkansas Radio
REFRESH-INTERVAL;VALUE=DURATION:PT1H
X-Robots-Tag:noindex
X-PUBLISHED-TTL:PT1H
BEGIN:VTIMEZONE
TZID:UTC
BEGIN:STANDARD
TZOFFSETFROM:+0000
TZOFFSETTO:+0000
TZNAME:UTC
DTSTART:20250101T000000
END:STANDARD
END:VTIMEZONE
BEGIN:VEVENT
DTSTART;VALUE=DATE:20260522
DTEND;VALUE=DATE:20260524
DTSTAMP:20260421T081746
CREATED:20260227T171259Z
LAST-MODIFIED:20260227T171416Z
UID:15041-1779408000-1779580799@arkansasradio.com
SUMMARY:Homecoming Hootenanny Mountain View Celebration
DESCRIPTION:The Homecoming Hootenanny Mountain View celebration will return Memorial Day weekend on 5-22-2026 and 5-23-2026 at the Ozark Folk Center State Park inside the Ozark Highlands Theater. \nThe annual event brings together favorite Ozark Folk Center bands\, dancers\, and alumni musicians for 2 nights of traditional mountain music and dance in the Folk Music Capital of the World. \nFeatured Performers Include: \nClancey Stewart (Ferguson) \nOzark Granny Chicks \nJed Clark \nThe Wiede Family \nRiggsville Ramblers \nOzark Folk Center Square Dancers \nAdvance tickets are available online and cost $2 less than day-of-show tickets purchased at the theater. \nSeason Pass holders are also eligible for entry. The Music & Craft Season Pass includes admission to 13 concerts and Craft Village access from 4-14-2026 through 11-14-2026\, representing a $240 value for $90. Guests can use promo code SEASONPASS at checkout to waive service fees.
URL:https://arkansasradio.com/event/homecoming-hootenanny-mountain-view-celebration/
ATTACH;FMTTYPE=image/png:https://arkansasradio.com/wp-content/uploads/2024/07/breakingnewslogo-1.png
END:VEVENT
BEGIN:VEVENT
DTSTART;TZID=UTC:20260724T160000
DTEND;TZID=UTC:20260724T200000
DTSTAMP:20260421T081746
CREATED:20260420T230834Z
LAST-MODIFIED:20260420T230834Z
UID:16451-1784908800-1784923200@arkansasradio.com
SUMMARY:Searcy’s 5th Annual Recovery Picnic Set for July 24 2026 at Berryhill Park
DESCRIPTION:The date has been set\, and speakers will be announced at a later date for Searcy’s 5th Annual Recovery Picnic\, bringing together communities for an evening of hope\, healing and support. \n \nHosted by the Searcy Police Department Peer Recovery program\, the event is scheduled for July 24 2026 from 4:00 PM to 8:00 PM at Berryhill Park\, 501 Davis Dr.\, Searcy\, Arkansas. \nThe event will feature free food\, fun activities for all ages\, vendors\, and opportunities to connect with recovery resources. Organizers say the event continues to grow each year as more families and individuals come together in support of recovery. \nGuest speakers sharing stories of hope will be part of the program\, with details to be announced soon. Attendees are encouraged to bring lawn chairs and enjoy a relaxed\, family-friendly atmosphere. \nOrganizers emphasize that recovery is a community effort\, helping reduce stigma while strengthening local support systems. \nVendor spots are free\, and door prize donations are encouraged. \nFor more information\, contact Kelli McHughes at 501-442-7816 or Destiny Bailey at 501-530-5519. \nIf you HAVE INFORMATION YOU WOULD LIKE TO SHARE with the ArkansasRadio . com radio stations submit your event at https://arkansasradio.com/submit-event/
URL:https://arkansasradio.com/event/searcys-5th-annual-recovery-picnic-set-for-july-24-2026-at-berryhill-park/
ATTACH;FMTTYPE=image/jpeg:https://arkansasradio.com/wp-content/uploads/2026/04/Searcys-Annual-Recovery-Picnic.jpg
END:VEVENT
END:VCALENDAR