BEGIN:VCALENDAR
VERSION:2.0
PRODID:-//Arkansas Radio - ECPv6.15.20//NONSGML v1.0//EN
CALSCALE:GREGORIAN
METHOD:PUBLISH
X-ORIGINAL-URL:https://arkansasradio.com
X-WR-CALDESC:Events for Arkansas Radio
REFRESH-INTERVAL;VALUE=DURATION:PT1H
X-Robots-Tag:noindex
X-PUBLISHED-TTL:PT1H
BEGIN:VTIMEZONE
TZID:UTC
BEGIN:STANDARD
TZOFFSETFROM:+0000
TZOFFSETTO:+0000
TZNAME:UTC
DTSTART:20230101T000000
END:STANDARD
END:VTIMEZONE
BEGIN:VEVENT
DTSTART;VALUE=DATE:20241025
DTEND;VALUE=DATE:20241027
DTSTAMP:20260419T130908
CREATED:20240411T144329Z
LAST-MODIFIED:20241023T011336Z
UID:2276-1729814400-1729987199@arkansasradio.com
SUMMARY:42nd Annual Bean Fest in Mountain View
DESCRIPTION:Join the fun at Mountain View for the 42nd Annual Arkansas Bean Fest and Championship Outhouse Races on October 25-26\, 2024. Enjoy the aroma of 1\,000 pounds of beans cooked in antique pots as local chefs compete for the “Best Beans” title\, with free servings at noon. In the afternoon\, Don’t miss the lively Parade of Outhouses showcasing decorated potties and spirited costumes. Then cheer on teams racing their handcrafted “people-powered potties” for Gold\, Silver\, and Bronze toilet seat trophies. Our own Bob Connell will be the MC for the Outhouse Races. Celebrate fall in a truly unique way!
URL:https://arkansasradio.com/event/beanfest-in-mt-view/
ATTACH;FMTTYPE=image/png:https://arkansasradio.com/wp-content/uploads/2024/07/breakingnewslogo-1.png
END:VEVENT
BEGIN:VEVENT
DTSTART;TZID=UTC:20241026T140000
DTEND;TZID=UTC:20241026T160000
DTSTAMP:20260419T130908
CREATED:20241018T203540Z
LAST-MODIFIED:20241018T203540Z
UID:5612-1729951200-1729958400@arkansasradio.com
SUMMARY:Desha Fall Festival and Trunk or Treat
DESCRIPTION:Desha First Baptist church located at 2655 Heber Springs Road will be having a Fall Festival and Trunk or Treat\, on Saturday October 26\, 2024 from 2 pm to 4 pm there will be food\, fun and games\, bounce house\, dunking booth\, cake walk\, hay ride\, and more rain or shine.
URL:https://arkansasradio.com/event/desha-fall-festival-and-trunk-or-treat/
ATTACH;FMTTYPE=image/png:https://arkansasradio.com/wp-content/uploads/2024/07/breakingnewslogo-1.png
END:VEVENT
BEGIN:VEVENT
DTSTART;TZID=UTC:20241026T200000
DTEND;TZID=UTC:20241026T200000
DTSTAMP:20260419T130908
CREATED:20241018T204008Z
LAST-MODIFIED:20241018T204008Z
UID:5616-1729972800-1729972800@arkansasradio.com
SUMMARY:Halloween Dance
DESCRIPTION:Halloween Dance featuring the band Plum Crazy. There will be a costume contest\, prizes\, and a 50/50 raffle. Open to the Public over the age of 21. $10 cover charge. \n\n\n\n\nThe event will be held at the American Legion Saxton-Willis Post 64.
URL:https://arkansasradio.com/event/halloween-dance/
ATTACH;FMTTYPE=image/png:https://arkansasradio.com/wp-content/uploads/2024/07/breakingnewslogo-1.png
END:VEVENT
BEGIN:VEVENT
DTSTART;TZID=UTC:20241031T100000
DTEND;TZID=UTC:20241031T120000
DTSTAMP:20260419T130908
CREATED:20241029T182950Z
LAST-MODIFIED:20241029T182950Z
UID:5876-1730368800-1730376000@arkansasradio.com
SUMMARY:Enjoy a Scenic View Cruise on the Veteran’s Barge of Fairfield Bay Marina on Greers Ferry Lake
DESCRIPTION:The Fairfield Bay Marina for a scenic cruise on the Veteran’s Barge! Enjoy coffee\, hot chocolate\, and donuts while taking in the stunning fall colors along the Greers Ferry Lake. The cruise departs at 10 AM on October 31st and returns around noon\, all for just $20 per person. With seating limited to 60\, it’s best to reserve your spot in advance. Call the Marina at 501-884-6030 to secure your ticket\, or purchase tickets on the day of the event if available. Don’t miss this chance to experience the breathtaking foliage of Greers Ferry lake in Fairfield Bay!
URL:https://arkansasradio.com/event/enjoy-a-scenic-view-cruise-on-the-veterans-barge-of-fairfield-bay-marina-on-greers-ferry-lake/
ATTACH;FMTTYPE=image/png:https://arkansasradio.com/wp-content/uploads/2024/07/breakingnewslogo-1.png
END:VEVENT
BEGIN:VEVENT
DTSTART;TZID=UTC:20241031T160000
DTEND;TZID=UTC:20241031T235900
DTSTAMP:20260419T130908
CREATED:20241029T183307Z
LAST-MODIFIED:20241029T183307Z
UID:5882-1730390400-1730419140@arkansasradio.com
SUMMARY:Evening Shade Fire Department for a Haunted House
DESCRIPTION:Join the Evening Shade Fire Department for a Haunted House experience on Halloween night\, October 31\, from 4 PM to midnight at the Evening Shade Gymnasium. Enjoy pictures with props\, pirate skeletons\, zombies\, and a costume contest. Concessions available. Admission: Adults $10\, kids 12 & under $5.
URL:https://arkansasradio.com/event/evening-shade-fire-department-for-a-haunted-house/
ATTACH;FMTTYPE=image/png:https://arkansasradio.com/wp-content/uploads/2024/07/breakingnewslogo-1.png
END:VEVENT
BEGIN:VEVENT
DTSTART;TZID=UTC:20241031T173000
DTEND;TZID=UTC:20241031T190000
DTSTAMP:20260419T130908
CREATED:20241024T141438Z
LAST-MODIFIED:20241024T141438Z
UID:5745-1730395800-1730401200@arkansasradio.com
SUMMARY:Lord of the Harvest Festival in Batesville
DESCRIPTION:First Church of the Nazarene located at the corner of Harrison and Sidney St.\, will be having a “Lord of the Harvest Festival\,” October 31st from 5:30 pm – 7:00 pm. Free: Hot Dogs\, Popcorn\, Candy\, and Lemonade. Lots of games\, prizes\, and activities. Fun for the whole family. Everyone is welcome.
URL:https://arkansasradio.com/event/lord-of-the-harvest-festival-in-batesville/
ATTACH;FMTTYPE=image/png:https://arkansasradio.com/wp-content/uploads/2024/07/breakingnewslogo-1.png
END:VEVENT
BEGIN:VEVENT
DTSTART;TZID=UTC:20241031T173000
DTEND;TZID=UTC:20241031T200000
DTSTAMP:20260419T130908
CREATED:20241029T183719Z
LAST-MODIFIED:20241029T183719Z
UID:5886-1730395800-1730404800@arkansasradio.com
SUMMARY:Spooktacular Evening at Trunk or Treat in Jacksonville
DESCRIPTION:Join us for a Spooktacular Evening at Trunk or Treat in Jacksonville\, Arkansas! Hosted by Jacksonville Parks and Recreation\, this annual Halloween celebration will take place on October 31\, 2024\, from 5:30 PM to 8:00 PM at Dupree Park. Enjoy a safe and family-friendly environment with creatively decorated vehicle trunks offering treats for all. Highlights include a whimsical hay maze\, scenic hay rides\, face painting\, local food trucks\, and fun games with prizes. Admission is free\, so wear your favorite costume and bring a bag for candy. For more info\, visit JacksonvilleParks.com or call 501-982-4171!
URL:https://arkansasradio.com/event/spooktacular-evening-at-trunk-or-treat-in-jacksonville/
ATTACH;FMTTYPE=image/png:https://arkansasradio.com/wp-content/uploads/2024/07/breakingnewslogo-1.png
END:VEVENT
BEGIN:VEVENT
DTSTART;TZID=UTC:20241031T180000
DTEND;TZID=UTC:20241031T183000
DTSTAMP:20260419T130908
CREATED:20241029T183130Z
LAST-MODIFIED:20241029T183130Z
UID:5878-1730397600-1730399400@arkansasradio.com
SUMMARY:Carmichael Community Center in Searcy having Halloween night for a spooktacular event
DESCRIPTION:Calling all kids! Get your costumes ready and head to the Carmichael Community Center in Searcy on Halloween night for a spooktacular event! Come Trick or Treat with our local heroes—our first responders will be there handing out candy! And don’t miss a special showing of the original Casper on the big screen! Hero Trick or Treat: 6pm – 6:30pm Casper Movie Showing: 6:30pm It’s going to be a fun-filled evening of treats and Halloween fun. We can’t wait to see you there! This event will take the place of Trick or Treat on the Square. Please make plans to attend! \n 
URL:https://arkansasradio.com/event/carmichael-community-center-in-searcy-having-halloween-night-for-a-spooktacular-event/
ATTACH;FMTTYPE=image/png:https://arkansasradio.com/wp-content/uploads/2024/07/breakingnewslogo-1.png
END:VEVENT
BEGIN:VEVENT
DTSTART;TZID=UTC:20241031T180000
DTEND;TZID=UTC:20241031T190000
DTSTAMP:20260419T130908
CREATED:20241029T183632Z
LAST-MODIFIED:20241029T183632Z
UID:5884-1730397600-1730401200@arkansasradio.com
SUMMARY:Mountain View "Trunk or Treat"
DESCRIPTION:Mountain View invites families to “Trunk or Treat” on Thursday\, October 31\, at 6 PM around the Square. Join the fun with festive activities\, treats\, and a spirited community atmosphere. Don’t miss this chance to celebrate Halloween in a lively and safe environment!
URL:https://arkansasradio.com/event/mountain-view-trunk-or-treat/
ATTACH;FMTTYPE=image/png:https://arkansasradio.com/wp-content/uploads/2024/07/breakingnewslogo-1.png
END:VEVENT
BEGIN:VEVENT
DTSTART;TZID=UTC:20241031T180000
DTEND;TZID=UTC:20241031T190000
DTSTAMP:20260419T130908
CREATED:20241029T183936Z
LAST-MODIFIED:20241029T183936Z
UID:5890-1730397600-1730401200@arkansasradio.com
SUMMARY:Bald Knob Trunk or Treat
DESCRIPTION:The city of Bald Knob Trunk or Treat in the courtyard downtown on Halloween night at 6 o’clock.
URL:https://arkansasradio.com/event/bald-knob-trunk-or-treat/
ATTACH;FMTTYPE=image/png:https://arkansasradio.com/wp-content/uploads/2024/07/breakingnewslogo-1.png
END:VEVENT
BEGIN:VEVENT
DTSTART;TZID=UTC:20241031T180000
DTEND;TZID=UTC:20241031T200000
DTSTAMP:20260419T130908
CREATED:20241029T184024Z
LAST-MODIFIED:20241029T184024Z
UID:5892-1730397600-1730404800@arkansasradio.com
SUMMARY:"Scare on the Square" in Historic Downtown Clinton
DESCRIPTION:On October 31st at 6:00 p.m. Don’t miss “Scare on the Square” in Historic Downtown Clinton. The streets will be closed off to create a safe and festive environment for Halloween festivities. Enjoy a variety of events and trick-or-treating opportunities with local businesses and residents. Everyone is welcome to set up a table and pass out candy. Come be a part of the community celebration and make this Halloween a memorable one. We look forward to seeing you there!
URL:https://arkansasradio.com/event/scare-on-the-square-in-historic-downtown-clinton/
ATTACH;FMTTYPE=image/png:https://arkansasradio.com/wp-content/uploads/2024/07/breakingnewslogo-1.png
END:VEVENT
BEGIN:VEVENT
DTSTART;TZID=UTC:20241031T180000
DTEND;TZID=UTC:20241031T210000
DTSTAMP:20260419T130908
CREATED:20241029T183213Z
LAST-MODIFIED:20241029T183459Z
UID:5880-1730397600-1730408400@arkansasradio.com
SUMMARY:Halloween After Party at UACCB
DESCRIPTION:Join us for a Halloween After Party at UACCB on Thursday\, October 31\, from 6 to 9 PM! Enjoy free food\, drinks\, music\, games (6-8 PM)\, a bonfire\, s’mores\, ghost stories\, and karaoke. Bring your lawn chairs and blankets for a spooktacular night!
URL:https://arkansasradio.com/event/halloween-after-party-at-uaccb/
ATTACH;FMTTYPE=image/png:https://arkansasradio.com/wp-content/uploads/2024/07/breakingnewslogo-1.png
END:VEVENT
BEGIN:VEVENT
DTSTART;VALUE=DATE:20241101
DTEND;VALUE=DATE:20241102
DTSTAMP:20260419T130908
CREATED:20241027T133118Z
LAST-MODIFIED:20241027T133118Z
UID:5823-1730419200-1730505599@arkansasradio.com
SUMMARY:The Highway 71 Freewill Baptist Mission is hosting Merry Market on November 1 and 2
DESCRIPTION:The Highway 71 Freewill Baptist Mission is hosting its annual Merry Market on November 1 and 2\, starting at 9 AM each day. This year’s event features more vendors and unique items\, along with boxed lunches and homemade cupcakes by Cindy Martindale Mizell. A portion of vendor proceeds will support the Mission’s weekly free meals for community members aged 55 and older. Join the festive shopping experience at 6704 N Highway 71\, Alma\, AR\, and enjoy a delightful day while giving back to the community!
URL:https://arkansasradio.com/event/the-highway-71-freewill-baptist-mission-is-hosting-merry-market-on-november-1-and-2/
ATTACH;FMTTYPE=image/png:https://arkansasradio.com/wp-content/uploads/2024/07/breakingnewslogo-1.png
END:VEVENT
BEGIN:VEVENT
DTSTART;VALUE=DATE:20241101
DTEND;VALUE=DATE:20241103
DTSTAMP:20260419T130908
CREATED:20240515T152847Z
LAST-MODIFIED:20240515T152847Z
UID:2856-1730419200-1730591999@arkansasradio.com
SUMMARY:3rd Annual Ozark Moonshine & Music Festival
DESCRIPTION:The 3rd Annual Ozark Moonshine & Music Festival is November 1-2 at the Van Buren County Fairgrounds in Clinton\, Arkansas\, featuring global country music sensation “LONESTAR” performing Saturday night\, and trailblazing bluegrass artists “The Gravel Yard Bluegrass Band” on Friday. Join us in the beautiful Ozarks for a two-day extravaganza of Arkansas heritage with live music\, arts & crafts\, and a celebration of the state’s finest distillers. Proceeds benefit the Children’s Advocacy Alliance. Ticket sales open July 1! Find event info at ozarkmoonshinefest.org.
URL:https://arkansasradio.com/event/3rd-annual-ozark-moonshine-music-festival/
ATTACH;FMTTYPE=image/png:https://arkansasradio.com/wp-content/uploads/2024/07/breakingnewslogo-1.png
END:VEVENT
BEGIN:VEVENT
DTSTART;VALUE=DATE:20241102
DTEND;VALUE=DATE:20241103
DTSTAMP:20260419T130908
CREATED:20241027T133155Z
LAST-MODIFIED:20241027T133155Z
UID:5825-1730505600-1730591999@arkansasradio.com
SUMMARY:The Highway 71 Freewill Baptist Mission is hosting Merry Market on November 1 and 2
DESCRIPTION:The Highway 71 Freewill Baptist Mission is hosting its annual Merry Market on November 1 and 2\, starting at 9 AM each day. This year’s event features more vendors and unique items\, along with boxed lunches and homemade cupcakes by Cindy Martindale Mizell. A portion of vendor proceeds will support the Mission’s weekly free meals for community members aged 55 and older. Join the festive shopping experience at 6704 N Highway 71\, Alma\, AR\, and enjoy a delightful day while giving back to the community!
URL:https://arkansasradio.com/event/the-highway-71-freewill-baptist-mission-is-hosting-merry-market-on-november-1-and-2-2/
ATTACH;FMTTYPE=image/png:https://arkansasradio.com/wp-content/uploads/2024/07/breakingnewslogo-1.png
END:VEVENT
BEGIN:VEVENT
DTSTART;VALUE=DATE:20241102
DTEND;VALUE=DATE:20241103
DTSTAMP:20260419T130908
CREATED:20241029T184641Z
LAST-MODIFIED:20241031T193303Z
UID:5900-1730505600-1730591999@arkansasradio.com
SUMMARY:Young Life Pickleball Tournamen in Searcy
DESCRIPTION:The third annual Young Life Pickleball Tournament is set for Saturday\, November 2\, at Berryhill in Searcy. Participants can still register online at pickleballbrackets.com. Don’t miss this exciting event\, perfect for players of all skill levels! Join us for a day of fun and competition!
URL:https://arkansasradio.com/event/oung-life-pickleball-tournamen-in-searcy/
ATTACH;FMTTYPE=image/png:https://arkansasradio.com/wp-content/uploads/2024/07/breakingnewslogo-1.png
END:VEVENT
BEGIN:VEVENT
DTSTART;VALUE=DATE:20241102
DTEND;VALUE=DATE:20241104
DTSTAMP:20260419T130908
CREATED:20241017T213856Z
LAST-MODIFIED:20241017T214513Z
UID:5579-1730505600-1730678399@arkansasradio.com
SUMMARY:Heber Springs Christmas Open House Celebrates 45 Years of Tradition
DESCRIPTION:Heber Springs is gearing up for its 45th Christmas Open House on November 2nd and 3rd\, marking the first event of its kind in Arkansas. This beloved holiday tradition invites the community to kick off the festive season with two days of shopping\, giveaways\, and seasonal cheer. \nOver $2\,000 in gift certificates will be up for grabs\, while 20 local merchants offer big sales on clothing\, art\, books\, gifts\, home decor\, and more. Shoppers can also find furniture restorations\, jewelry\, children’s gifts\, bakery goods\, candles\, and Christmas baskets. \nDon’t miss this chance to jumpstart your Christmas shopping and enjoy the holiday spirit in Heber Springs. For more information\, visit arkansasradio.com. \n \n 
URL:https://arkansasradio.com/event/heber-springs-christmas-open-house-celebrates-45-years-of-tradition/
ATTACH;FMTTYPE=image/jpeg:https://arkansasradio.com/wp-content/uploads/2024/10/KFFB-open-house-web-1.jpg
END:VEVENT
BEGIN:VEVENT
DTSTART;TZID=UTC:20241102T100000
DTEND;TZID=UTC:20241102T140000
DTSTAMP:20260419T130908
CREATED:20241029T184450Z
LAST-MODIFIED:20241029T184450Z
UID:5896-1730541600-1730556000@arkansasradio.com
SUMMARY:The Pangburn Friends of the Library will host a Used Book Sale
DESCRIPTION:The Pangburn Friends of the Library will host a Used Book Sale on Saturday\, November 2\, 2024\, from 10 AM to 2 PM at 507 Searcy Street\, Pangburn\, AR. Browse a vast selection of books\, with hardbacks and movies priced at $1 and paperbacks at just $0.25. All proceeds support programs at the Pangburn Public Library. The store is open every Saturday\, featuring new arrivals regularly. For more information\, contact Kim Vernon at (501) 580-0477 or email kimber.vernon@gmail.com. Don’t miss this opportunity to find great reads and support your local library!
URL:https://arkansasradio.com/event/the-pangburn-friends-of-the-library-will-host-a-used-book-sale/
ATTACH;FMTTYPE=image/png:https://arkansasradio.com/wp-content/uploads/2024/07/breakingnewslogo-1.png
END:VEVENT
BEGIN:VEVENT
DTSTART;TZID=UTC:20241102T100000
DTEND;TZID=UTC:20241102T160000
DTSTAMP:20260419T130908
CREATED:20241029T184353Z
LAST-MODIFIED:20241029T184353Z
UID:5894-1730541600-1730563200@arkansasradio.com
SUMMARY:Pioneer Village in Searcy will host its Fall Open House
DESCRIPTION:Pioneer Village will host its Fall Open House on November 2 from 10 AM to 4 PM and on November 3 from noon to 3 PM. The event features music\, live demonstrations\, and vendors\, with historic buildings available for touring. Visitors can watch a blacksmith and woodworker at work\, and enjoy a bake sale by the Master Gardeners. Admission is free\, but donations are appreciated. Join the community at 1200 Veterans Blvd (formerly Higginson Street) in Searcy\, Arkansas\, for a weekend of fun and history!
URL:https://arkansasradio.com/event/pioneer-village-in-searcy-will-host-its-fall-open-house/
ATTACH;FMTTYPE=image/png:https://arkansasradio.com/wp-content/uploads/2024/07/breakingnewslogo-1.png
END:VEVENT
BEGIN:VEVENT
DTSTART;TZID=UTC:20241102T130000
DTEND;TZID=UTC:20241102T183000
DTSTAMP:20260419T130908
CREATED:20241029T184554Z
LAST-MODIFIED:20241029T184554Z
UID:5898-1730552400-1730572200@arkansasradio.com
SUMMARY:Standing in the Gap Open House in Fairfield Bay
DESCRIPTION:Join Standing in the Gap for an Open House on Saturday\, November 2\, 2024\, from 1 PM to 6:30 PM at 130 Village Pl\, Suite 1-F\, Fairfield Bay\, AR. Discover the intercessory prayer ministry\, enjoy live worship\, snacks\, and receive prayer. Everyone is welcome!
URL:https://arkansasradio.com/event/standing-in-the-gap-open-house-in-fairfield-bay/
ATTACH;FMTTYPE=image/png:https://arkansasradio.com/wp-content/uploads/2024/07/breakingnewslogo-1.png
END:VEVENT
BEGIN:VEVENT
DTSTART;VALUE=DATE:20241103
DTEND;VALUE=DATE:20241104
DTSTAMP:20260419T130908
CREATED:20241018T204916Z
LAST-MODIFIED:20241018T204916Z
UID:5624-1730592000-1730678399@arkansasradio.com
SUMMARY:Heber Springs Christmas Open House Celebrates 45 Years of Tradition
DESCRIPTION:Heber Springs is gearing up for its 45th Christmas Open House on November 2nd and 3rd\, marking the first event of its kind in Arkansas. This beloved holiday tradition invites the community to kick off the festive season with two days of shopping\, giveaways\, and seasonal cheer. \nOver $2\,000 in gift certificates will be up for grabs\, while 20 local merchants offer big sales on clothing\, art\, books\, gifts\, home decor\, and more. Shoppers can also find furniture restorations\, jewelry\, children’s gifts\, bakery goods\, candles\, and Christmas baskets. \nDon’t miss this chance to jumpstart your Christmas shopping and enjoy the holiday spirit in Heber Springs. For more information\, visit  arkansasradio.com.
URL:https://arkansasradio.com/event/heber-springs-christmas-open-house-celebrates-45-years-of-tradition-2/
ATTACH;FMTTYPE=image/png:https://arkansasradio.com/wp-content/uploads/2024/07/breakingnewslogo-1.png
END:VEVENT
BEGIN:VEVENT
DTSTART;TZID=UTC:20241103T150000
DTEND;TZID=UTC:20241103T170000
DTSTAMP:20260419T130908
CREATED:20241028T003433Z
LAST-MODIFIED:20241028T003433Z
UID:5849-1730646000-1730653200@arkansasradio.com
SUMMARY:The Delta Symphony Orchestra will provide a free community concert\, hosted by the Batesville Symphony League
DESCRIPTION:The Delta Symphony Orchestra will provide a free community concert\, hosted by the Batesville Symphony League\, beginning at 3 p.m. on Sunday\, November 3rd\, in Brown Chapel on the Lyon College campus\, 2300 Highland Rd. The only professional symphony orchestra in Northeast Arkansas for over four decades\, the Delta Symphony Orchestra is an integral part of the Delta Region culture\, committed to entertaining\, educating and enriching lives by providing orchestral music of artistic excellence. The Batesville concert is made possible through the generosity of corporate partners and individual donors. \n 
URL:https://arkansasradio.com/event/the-delta-symphony-orchestra-will-provide-a-free-community-concert-hosted-by-the-batesville-symphony-league/
ATTACH;FMTTYPE=image/png:https://arkansasradio.com/wp-content/uploads/2024/10/DSO-2024Concert-1.png
END:VEVENT
BEGIN:VEVENT
DTSTART;VALUE=DATE:20241104
DTEND;VALUE=DATE:20241118
DTSTAMP:20260419T130908
CREATED:20241104T182856Z
LAST-MODIFIED:20241107T231901Z
UID:6008-1730678400-1731887999@arkansasradio.com
SUMMARY:Independence County Christmas Brings Hope Application Drive
DESCRIPTION:Independence County Christmas Brings Hope Application you can pick up at the following: \nBatesville Chamber\nWhite River Area Agency on Aging\nBatesville Guard\nIndep Co Library\nThe Bull (Ted will be taking some to them)\n\n \n 
URL:https://arkansasradio.com/event/independence-county-christmas-brings-hope-application-drive/
ATTACH;FMTTYPE=image/png:https://arkansasradio.com/wp-content/uploads/2024/11/large_Christmas_brings_hope_Facebook_post.png
END:VEVENT
BEGIN:VEVENT
DTSTART;VALUE=DATE:20241107
DTEND;VALUE=DATE:20241128
DTSTAMP:20260419T130908
CREATED:20241108T001314Z
LAST-MODIFIED:20241108T001403Z
UID:6097-1730937600-1732751999@arkansasradio.com
SUMMARY:John 3:16 Ministry Offers Holiday Meat and Pies for Sale For Thanksgiving
DESCRIPTION:As the holiday season approaches\, John 3:16 Ministries is offering a delicious way to support a good cause. The organization is selling a variety of smoked meats and pies\, with proceeds benefiting its local outreach programs. \nCustomers can order the following items: \n\nSmoked Ham – $49.95\nSmoked Turkey – $49.95\nPork Butt – $34.95\nPecan Pie – $24.95\nApple Pie – $24.95\nPumpkin Pie – $19.95\n\nOrders are being accepted by phone at 870-307-4667 or 870-799-2525. All items will be available for pickup on Wednesday\, November 27\, 2024\, at two convenient locations: \n\nWal-Mart Batesville (Harrison Street) – Pickup from 8:00 AM to 6:00 PM\nWal-Mart Jonesboro (E. Highland Drive) – Pickup from 8:00 AM to 6:00 PM\n\n“We’re excited to offer these delicious holiday treats while also raising funds for our ministry\,” said a representative from John 3:16 Ministries. “This is a great way to give back while enjoying a special meal with family and friends.” \nThe ministry encourages customers to place their orders early\, as availability may be limited. \nFor more information or to place an order\, contact John 3:16 Ministries at the numbers listed above. \n\nFor additional details or media inquiries\, please contact John 3:16 Ministries at 870-799-2525.
URL:https://arkansasradio.com/event/john-316-ministry-offers-holiday-meat-and-pies-for-sale/
ATTACH;FMTTYPE=image/jpeg:https://arkansasradio.com/wp-content/uploads/2024/11/John-316.jpg
END:VEVENT
BEGIN:VEVENT
DTSTART;TZID=UTC:20241107T080000
DTEND;TZID=UTC:20241110T170000
DTSTAMP:20260419T130908
CREATED:20240411T143925Z
LAST-MODIFIED:20240411T143925Z
UID:2270-1730966400-1731258000@arkansasradio.com
SUMMARY:Mt. View Bluegrass Festival
DESCRIPTION:The Mt. View Bluegrass Festival will be held November 7th through 9th.
URL:https://arkansasradio.com/event/mt-view-bluegrass-festival/
ATTACH;FMTTYPE=image/png:https://arkansasradio.com/wp-content/uploads/2024/07/breakingnewslogo-1.png
END:VEVENT
BEGIN:VEVENT
DTSTART;TZID=UTC:20241107T170000
DTEND;TZID=UTC:20241107T170000
DTSTAMP:20260419T130908
CREATED:20241106T021520Z
LAST-MODIFIED:20241106T021520Z
UID:6053-1730998800-1730998800@arkansasradio.com
SUMMARY:United Way Night of Impact
DESCRIPTION:The United Way of North Central Arkansas invites the community to the Night of Impact on Thursday\, November 7\, at 5 p.m. at Lyon College’s Scottish Heritage Building\, 2300 Highland Rd. This event will celebrate the organization’s work in Cleburne\, Independence\, Izard\, Sharp\, and Stone Counties\, and kick off the 2025 fundraising campaign.
URL:https://arkansasradio.com/event/united-way-night-of-impact/
ATTACH;FMTTYPE=image/png:https://arkansasradio.com/wp-content/uploads/2024/07/breakingnewslogo-1.png
END:VEVENT
BEGIN:VEVENT
DTSTART;TZID=UTC:20241107T183000
DTEND;TZID=UTC:20241107T203000
DTSTAMP:20260419T130908
CREATED:20241107T034859Z
LAST-MODIFIED:20241107T034859Z
UID:6069-1731004200-1731011400@arkansasradio.com
SUMMARY:Free Workshops to Boost Fundamental Digital Skills for All
DESCRIPTION:The Literacy Council of White County along with funding and support from Digitunity’s Connected Learners Award Program is offering free workshops aimed at developing fundamental digital skills in the White County area.\n\nThe first workshop is Thursday\, November 7 6:30 pm in Searcy Library in Study Room 1.  The topic is Basic Smartphone and Tablet skills.\n\nTwo different workshops are slated for November 14 and 21\, same time\, same location.  The remainder are To Be Announced.\n\nAttendance is free and it is first come\, first serve.  For more information\, contact the Literacy Council of White County 501-278-5500 or info@whitecountyliteracy.org
URL:https://arkansasradio.com/event/free-workshops-to-boost-fundamental-digital-skills-for-all/
ATTACH;FMTTYPE=image/png:https://arkansasradio.com/wp-content/uploads/2024/11/Literacy-Council-of-White-County.png
END:VEVENT
BEGIN:VEVENT
DTSTART;VALUE=DATE:20241108
DTEND;VALUE=DATE:20241109
DTSTAMP:20260419T130908
CREATED:20241024T141808Z
LAST-MODIFIED:20241024T141808Z
UID:5751-1731024000-1731110399@arkansasradio.com
SUMMARY:Festival of Charis in Conway
DESCRIPTION:The Festival of Chairs\, a cherished annual fundraiser supporting children in need\, is rebranding to the Festival of Hope after 23 years. Hosted by the Children’s Advocacy Alliance (CAA)\, this event remains vital for raising essential funds for vulnerable children in our local communities. This year’s Festival of Hope is scheduled for November 8\, 2024\, at the St. Joseph School Spiritan Center. The event will feature live and silent auctions\, live music\, guest speakers\, and more\, all dedicated to raising awareness and resources for programs that support children and families in need.
URL:https://arkansasradio.com/event/festival-of-charis-in-conway/
ATTACH;FMTTYPE=image/png:https://arkansasradio.com/wp-content/uploads/2024/07/breakingnewslogo-1.png
END:VEVENT
BEGIN:VEVENT
DTSTART;TZID=UTC:20241108T110000
DTEND;TZID=UTC:20241108T160000
DTSTAMP:20260419T130908
CREATED:20241023T013347Z
LAST-MODIFIED:20241107T231156Z
UID:5723-1731063600-1731081600@arkansasradio.com
SUMMARY:The Arkansas Craft School Art Walk in Mountain View
DESCRIPTION:November 8th & 9th\, 2024 – The Arkansas Craft School invites the community to its vibrant Art Walk\, showcasing local artists and fostering community engagement. From 11:00 a.m. to 4:00 p.m.\, attendees can enjoy live art demonstrations\, youth activities\, and music from local musicians. The event will feature exhibitions from area schools and offer pottery scholarships to contest winners. With 200 art goodie bags for young artists\, this two-day celebration promises to boost the local economy while highlighting Mountain View’s artistic talent. For more information\, contact Nikki Morrow at nikki.morrow@arkansascraftschool.org or call 870-269-8397.
URL:https://arkansasradio.com/event/the-arkansas-craft-school-art-walk-in-mountain-view/
ATTACH;FMTTYPE=image/jpeg:https://arkansasradio.com/wp-content/uploads/2024/10/images-1.jpg
END:VEVENT
BEGIN:VEVENT
DTSTART;TZID=UTC:20241108T110000
DTEND;TZID=UTC:20241109T160000
DTSTAMP:20260419T130908
CREATED:20241024T141849Z
LAST-MODIFIED:20241024T141849Z
UID:5753-1731063600-1731168000@arkansasradio.com
SUMMARY:Vibrant Art Walk in Mt. View
DESCRIPTION:November 8th & 9th\, 2024 – The Arkansas Craft School invites the community to its vibrant Art Walk\, showcasing local artists and fostering community engagement. From 11:00 a.m. to 4:00 p.m.\, attendees can enjoy live art demonstrations\, youth activities\, and music from local musicians. The event will feature exhibitions from area schools and offer pottery scholarships to contest winners. With 200 art goodie bags for young artists\, this two-day celebration promises to boost the local economy while highlighting Mountain View’s artistic talent. For more information\, contact Nikki Morrow at nikki.morrow@arkansascraftschool.org or call 870-269-8397.
URL:https://arkansasradio.com/event/vibrant-art-walk-in-mt-view/
ATTACH;FMTTYPE=image/png:https://arkansasradio.com/wp-content/uploads/2024/07/breakingnewslogo-1.png
END:VEVENT
END:VCALENDAR