BEGIN:VCALENDAR
VERSION:2.0
PRODID:-//Arkansas Radio - ECPv6.15.20//NONSGML v1.0//EN
CALSCALE:GREGORIAN
METHOD:PUBLISH
X-WR-CALNAME:Arkansas Radio
X-ORIGINAL-URL:https://arkansasradio.com
X-WR-CALDESC:Events for Arkansas Radio
REFRESH-INTERVAL;VALUE=DURATION:PT1H
X-Robots-Tag:noindex
X-PUBLISHED-TTL:PT1H
BEGIN:VTIMEZONE
TZID:UTC
BEGIN:STANDARD
TZOFFSETFROM:+0000
TZOFFSETTO:+0000
TZNAME:UTC
DTSTART:20250101T000000
END:STANDARD
END:VTIMEZONE
BEGIN:VEVENT
DTSTART;VALUE=DATE:20260423
DTEND;VALUE=DATE:20260427
DTSTAMP:20260425T011841
CREATED:20260416T182510Z
LAST-MODIFIED:20260416T182510Z
UID:16296-1776902400-1777247999@arkansasradio.com
SUMMARY:Meta Title: ASU-Beebe Theatre Presents Student Adaptation of Peter Pan April 23–26
DESCRIPTION:Arkansas State University-Beebe theatre students are bringing the magic of Peter Pan to life with a special student-written adaptation running April 23 through April 26 at the Owen Center Theater. \n \nPerformances will take place at 7 p.m. on April 23 and April 24\, and 2 p.m. on April 25 and April 26. Tickets are just $5 per person and are available online or at the door\, with doors opening 30 minutes before showtime. \nThis classic tale follows Peter Pan\, Wendy\, and the Lost Boys on a magical journey to Neverland filled with adventure\, imagination\, and unforgettable characters like Tinkerbell and Captain Hook. \nThe production is directed by theatre instructor Hope Hargrove\, who says the show highlights the creativity and talent of ASU-Beebe students. \nOrganizers say the performance is perfect for audiences of all ages and showcases the college’s strong commitment to the arts and community engagement. \n📢 HAVE INFORMATION YOU WOULD LIKE TO SHARE? Submit your event to the ArkansasRadio.com radio stations at https://arkansasradio.com/submit-event/
URL:https://arkansasradio.com/event/meta-title-asu-beebe-theatre-presents-student-adaptation-of-peter-pan-april-23-26/
ATTACH;FMTTYPE=image/jpeg:https://arkansasradio.com/wp-content/uploads/2026/04/ASU-Beebe-theatre-students-practice-for-the-upcoming-production-of-Peter-Pan-to-be-held-April-23-26-in-the-Owen-Center-theater-1.jpg
END:VEVENT
BEGIN:VEVENT
DTSTART;TZID=UTC:20260424T190000
DTEND;TZID=UTC:20260425T210000
DTSTAMP:20260425T011841
CREATED:20260414T235042Z
LAST-MODIFIED:20260414T235042Z
UID:16244-1777057200-1777150800@arkansasradio.com
SUMMARY:Ozark Folk Center Dulcimer Jamboree 2026 Set for April 24-25 in Mountain View Arkansas
DESCRIPTION:The Ozark Folk Center State Park will host the annual Dulcimer Jamboree on April 24-25\, 2026\, featuring concerts and the Southern Regional Dulcimer Championship Contests. \nSteve Eulberg\nThe event celebrates the rich musical heritage of the Ozarks\, highlighting both mountain dulcimer and hammered dulcimer traditions with performances from some of the top players in the nation. \nConcerts will be held at the Ozark Highlands Theater from 7 p.m. to 9 p.m. both nights\, featuring performers including Steve Eulberg\, Colin Beasley\, Kara Barnard\, Rick Thum\, Katie Moritz\, Don Pedi\, and Jess Dickinson. \nThe Southern Regional Dulcimer Championships\, sponsored by the Committee of One Hundred\, are free to attend\, with competitions scheduled Friday from 5:30 p.m. to 6:45 p.m. and Saturday from 1:30 p.m. to 7 p.m. \nOfficials say the event continues a long-standing tradition of preserving Ozark culture and introducing new generations to the dulcimer. \nTickets for concerts are available online\, with pricing set at $15 for adults\, $8 for children ages 6-12\, and $35 for a family pass\, with day-of-show tickets costing $2 more. \nOrganizers say limited workshop space remains for hammered dulcimer players\, while mountain dulcimer workshops are already sold out. \nVisitors can stay onsite at the Cabins at Dry Creek\, offering convenient access to the park’s events and amenities.
URL:https://arkansasradio.com/event/ozark-folk-center-dulcimer-jamboree-2026-set-for-april-24-25-in-mountain-view-arkansas/
ATTACH;FMTTYPE=image/jpeg:https://arkansasradio.com/wp-content/uploads/2026/04/Steve-Eulberg-2.jpg
END:VEVENT
BEGIN:VEVENT
DTSTART;VALUE=DATE:20260425
DTEND;VALUE=DATE:20260426
DTSTAMP:20260425T011841
CREATED:20260109T022807Z
LAST-MODIFIED:20260423T221630Z
UID:13714-1777075200-1777161599@arkansasradio.com
SUMMARY:Millwood Station Vendor Fest in Maumelle
DESCRIPTION:A great variety of vendors + a community that loves to support local = the perfect day. Come out and show out for small businesses! Parking information: There is parking\, including handicap parking\, at Millwood Station. We also have a shared parking agreement with First Baptist Church(across the street). There is a crosswalk located at the stoplight.
URL:https://arkansasradio.com/event/millwood-station-vendor-fest-in-maumelle/
ATTACH;FMTTYPE=image/jpeg:https://arkansasradio.com/wp-content/uploads/2026/01/Millwood-Station-Vendor-Fest-in-Maumelle.jpg
END:VEVENT
BEGIN:VEVENT
DTSTART;VALUE=DATE:20260425
DTEND;VALUE=DATE:20260426
DTSTAMP:20260425T011841
CREATED:20260318T142727Z
LAST-MODIFIED:20260423T221818Z
UID:15484-1777075200-1777161599@arkansasradio.com
SUMMARY:2026 Spring Frolic at Petit Jean Farmers Market
DESCRIPTION:Petit Jean Farmers Market is ready for all things new!Spring is the season of renewal — a time when nature awakens\, the soil comes alive\, and winter’s rest gives way to fresh beginnings. Join us for a beautiful day filled with talented crafters\, homemade baked goods\, delicious food\, fresh plants and produce — all with a little music mixed in to make it even sweeter.Come celebrate the season with us at Petit Jean Farmers Market!
URL:https://arkansasradio.com/event/2026-spring-frolic-at-petit-jean-farmers-market/
ATTACH;FMTTYPE=image/jpeg:https://arkansasradio.com/wp-content/uploads/2026/03/Spring-Frolic-at-Petit-Jean-Farmers-Market.jpg
END:VEVENT
BEGIN:VEVENT
DTSTART;VALUE=DATE:20260425
DTEND;VALUE=DATE:20260426
DTSTAMP:20260425T011841
CREATED:20260423T013700Z
LAST-MODIFIED:20260423T013700Z
UID:16538-1777075200-1777161599@arkansasradio.com
SUMMARY:Batesville Arkansas Renaissance Faire Set for April 25 2026 on Main Street
DESCRIPTION:Step back in time as the Batesville Arkansas Renaissance Faire returns to historic downtown on April 25\, 2026\, bringing a full day of entertainment\, creativity\, and family fun. \n \nThe event will take place from 10:00 a.m. to 4:00 p.m. along Main Street in Batesville Arkansas\, with activities centered around the Independence County Library. Organizers say portions of downtown streets will be closed to create an immersive festival atmosphere. \nVisitors can enjoy a wide variety of attractions including live music\, bagpipe performances\, horses\, short theater productions\, and costume contests for all ages. Additional activities include face painting\, raffles\, and interactive experiences designed for the entire family. \nThe faire will also feature vendors offering handmade arts and crafts such as jewelry\, paintings\, fantasy-themed items\, and books\, along with a selection of food trucks serving festival favorites. \nOrganizers say the event is a great opportunity for families and visitors to experience the charm of downtown Batesville Arkansas while supporting local artists\, businesses\, and volunteers. \nVendor setup will begin at 8:00 a.m. the day of the event. For more information\, interested participants can contact event organizers directly.
URL:https://arkansasradio.com/event/batesville-arkansas-renaissance-faire-set-for-april-25-2026-on-main-street/
ATTACH;FMTTYPE=image/jpeg:https://arkansasradio.com/wp-content/uploads/2026/04/Batesville-Arkansas-Renaissance-Faire.jpg
END:VEVENT
BEGIN:VEVENT
DTSTART;VALUE=DATE:20260425
DTEND;VALUE=DATE:20260426
DTSTAMP:20260425T011841
CREATED:20260423T014230Z
LAST-MODIFIED:20260423T014230Z
UID:16543-1777075200-1777161599@arkansasradio.com
SUMMARY:Conway Arkansas Foster and Adoptive Conference Set April 25 Supporting Area 5 Families
DESCRIPTION:The CALL in Conway and Faulkner Counties is encouraging the community to support local foster and adoptive families ahead of the Area 5 Foster and Adoptive Family Conference set for April 25 in Conway Arkansas. \n \nOrganized in partnership with the Division of Children and Family Services (DCFS)\, the annual conference brings together families from across the region for encouragement\, connection\, and support. This year’s theme\, “A Patchwork of Love: Every Piece Matters\,” highlights the vital role every child\, family\, and story plays in foster care. \nCommunity members can help by purchasing needed items through an Amazon wishlist. Organizers say all donated items will be sent directly and used during the conference weekend to support attending families. \nLeaders say the event is designed to uplift foster and adoptive families\, offering a chance to recharge\, connect\, and be reminded that their work truly matters. \nThe CALL says foster care is made up of many stories—some unfinished\, some beautiful—but all meaningful\, coming together as a “quilt of love” across the community.
URL:https://arkansasradio.com/event/conway-arkansas-foster-and-adoptive-conference-set-april-25-supporting-area-5-families/
ATTACH;FMTTYPE=image/jpeg:https://arkansasradio.com/wp-content/uploads/2026/04/A-major-step-forward-in-supporting-children-and-families-in-foster-care.jpg
END:VEVENT
BEGIN:VEVENT
DTSTART;TZID=UTC:20260425T083000
DTEND;TZID=UTC:20260425T110000
DTSTAMP:20260425T011841
CREATED:20260412T205155Z
LAST-MODIFIED:20260412T205155Z
UID:16126-1777105800-1777114800@arkansasradio.com
SUMMARY:Muffins and Minnows Hazen Arkansas Prairie County 4H Fishing Event April 25 2026
DESCRIPTION:Prairie County 4H is inviting families to enjoy a morning of fishing\, food\, and outdoor fun at the Muffins and Minnows event on Saturday April 25 2026. \n \nThe event will take place at Wattensaw Retriever Pond in Hazen Arkansas and is designed to bring the community together for a fun and educational outdoor experience. \nRegistration and breakfast will run from 8:30 AM to 9 AM\, followed by fishing\, activities\, and door prizes from 9 AM to 11:30 AM. Participants are encouraged to bring their own fishing poles. \nBreakfast is sponsored by the Prairie County Farm Bureau\, and the Arkansas Forestry Division will be on site with Smokey Bear to promote wildfire safety awareness. \nOrganizers say the event is a great opportunity for families to connect\, enjoy nature\, and create lasting memories.
URL:https://arkansasradio.com/event/muffins-and-minnows-hazen-arkansas-prairie-county-4h-fishing-event-april-25-2026/
ATTACH;FMTTYPE=image/jpeg:https://arkansasradio.com/wp-content/uploads/2026/04/Muffins-and-Minnows-Hazen-Arkansas-Prairie-County-4H-Fishing-Event-April-25-2026.jpg
END:VEVENT
BEGIN:VEVENT
DTSTART;TZID=UTC:20260425T100000
DTEND;TZID=UTC:20260425T170000
DTSTAMP:20260425T011841
CREATED:20260121T172243Z
LAST-MODIFIED:20260121T172243Z
UID:14009-1777111200-1777136400@arkansasradio.com
SUMMARY:Greenbrier Area Arts Council Announces 6th Annual Art Jam Festival April 25 at Matthews Park
DESCRIPTION:The Greenbrier Area Arts Council is inviting the community to celebrate creativity and community at the 6th Annual Art Jam on Saturday\, April 25\, beginning at 10 a.m. at Matthews Park\, located at 25 Ivy Street in Greenbrier. \n \nOrganizers describe the award-winning festival as a fun\, interactive experience for all ages\, featuring live performances\, hands-on art activities\, workshops\, demonstrations\, and more. This year’s theme encourages attendees to “soar to new heights” while enjoying a full day of creative expression and entertainment. \n“Art Jam is designed to bring people together to celebrate creativity in a way that’s engaging and accessible for everyone\,” organizers said. “It’s truly a ‘jam good time’ for families\, artists\, and the entire community.” \nAdmission to the event is free\, making it an easy and affordable outing for families and visitors across Central Arkansas. \nProceeds and community support generated through Art Jam benefit the Greenbrier Area Arts Council\, which has provided more than $5\,000 in scholarships and grants to local students and teachers to support arts education and enrichment. \nFor more information\, community members may contact event organizer Shellie O’Quinn at 501-733-1140 or by email at greenbrierareaartscouncil@gmail.com\n.
URL:https://arkansasradio.com/event/greenbrier-area-arts-council-announces-6th-annual-art-jam-festival-april-25-at-matthews-park/
ATTACH;FMTTYPE=image/jpeg:https://arkansasradio.com/wp-content/uploads/2026/01/Greenbrier-Area-Arts-Council-Art-Jam-festival-Greenbrier-Arkansas.jpg
END:VEVENT
BEGIN:VEVENT
DTSTART;TZID=UTC:20260425T183000
DTEND;TZID=UTC:20260425T203000
DTSTAMP:20260425T011841
CREATED:20260423T012447Z
LAST-MODIFIED:20260423T012447Z
UID:16533-1777141800-1777149000@arkansasradio.com
SUMMARY:Parkview Praise Set for Batesville Arkansas with Special Guests The Dillons
DESCRIPTION:Parkview Baptist Church will host a special evening of music and worship during Parkview Praise on Saturday April 25 2026 in Batesville Arkansas. \n \nThe event begins at 6:30 PM at the church located at 2600 North St Louis Street and is open to the public with free admission. \nFeatured guests for the evening include The Dillons\, known for their uplifting gospel performances. The event will be hosted by Doc and Connie\, bringing the community together for a night of praise and fellowship. \nOrganizers say Parkview Praise offers a welcoming atmosphere for families and individuals to enjoy live music and celebrate faith. \nCommunity members from across Independence County and surrounding areas are invited to attend this free event. \n📢 HAVE INFORMATION YOU WOULD LIKE TO SHARE?\nSubmit your event to the ArkansasRadio.com radio stations here: https://arkansasradio.com/submit-event/
URL:https://arkansasradio.com/event/%f0%9f%8e%b6-parkview-praise-set-for-batesville-arkansas-with-special-guests-the-dillons/
ATTACH;FMTTYPE=image/png:https://arkansasradio.com/wp-content/uploads/2026/01/Gospel-Music-Night.png
END:VEVENT
BEGIN:VEVENT
DTSTART;TZID=UTC:20260425T190000
DTEND;TZID=UTC:20260425T210000
DTSTAMP:20260425T011841
CREATED:20260423T014826Z
LAST-MODIFIED:20260423T014826Z
UID:16547-1777143600-1777150800@arkansasradio.com
SUMMARY:Mike Foster Benefit Concert Set for April 25 2026 in Batesville Arkansas
DESCRIPTION:The community is coming together in Batesville Arkansas to honor a beloved local musician with a special benefit concert on April 25\, 2026. \n \nThe Mike Foster Benefit Concert will begin at 7:00 p.m. at the Batesville Community Theater Performing Arts Center\, located at 1295 East Main Street in Batesville Arkansas. \nMike Foster\, a Batesville native known for his keyboard talents\, contributed to the sound of numerous bands and artists across Northeast Arkansas for decades. Following his recent passing\, fellow musicians are organizing the event to celebrate his legacy and support his family. \nThe concert will feature performances by Dany Dozier and The Lockhouse Orchestra\, Gary Rounds\, and recording artist Tim Crouch. Additional performances will include Nick Fudge\, David Johnston\, Travis Hoggard\, and Randy Wade — many of whom have performed alongside Foster as part of “Foster and Friends.” \nOrganizers say the public is invited to attend and enjoy an evening of live music while honoring Foster’s impact on the local music scene. \nDonations will be accepted throughout the event\, with all proceeds going directly to support the Foster family.
URL:https://arkansasradio.com/event/mike-foster-benefit-concert-set-for-april-25-2026-in-batesville-arkansas/
ATTACH;FMTTYPE=image/jpeg:https://arkansasradio.com/wp-content/uploads/2026/04/Foster.jpg
END:VEVENT
END:VCALENDAR