BEGIN:VCALENDAR
VERSION:2.0
PRODID:-//Arkansas Radio - ECPv6.15.20//NONSGML v1.0//EN
CALSCALE:GREGORIAN
METHOD:PUBLISH
X-WR-CALNAME:Arkansas Radio
X-ORIGINAL-URL:https://arkansasradio.com
X-WR-CALDESC:Events for Arkansas Radio
REFRESH-INTERVAL;VALUE=DURATION:PT1H
X-Robots-Tag:noindex
X-PUBLISHED-TTL:PT1H
BEGIN:VTIMEZONE
TZID:UTC
BEGIN:STANDARD
TZOFFSETFROM:+0000
TZOFFSETTO:+0000
TZNAME:UTC
DTSTART:20250101T000000
END:STANDARD
END:VTIMEZONE
BEGIN:VEVENT
DTSTART;VALUE=DATE:20260423
DTEND;VALUE=DATE:20260427
DTSTAMP:20260423T012235
CREATED:20260416T182510Z
LAST-MODIFIED:20260416T182510Z
UID:16296-1776902400-1777247999@arkansasradio.com
SUMMARY:Meta Title: ASU-Beebe Theatre Presents Student Adaptation of Peter Pan April 23–26
DESCRIPTION:Arkansas State University-Beebe theatre students are bringing the magic of Peter Pan to life with a special student-written adaptation running April 23 through April 26 at the Owen Center Theater. \n \nPerformances will take place at 7 p.m. on April 23 and April 24\, and 2 p.m. on April 25 and April 26. Tickets are just $5 per person and are available online or at the door\, with doors opening 30 minutes before showtime. \nThis classic tale follows Peter Pan\, Wendy\, and the Lost Boys on a magical journey to Neverland filled with adventure\, imagination\, and unforgettable characters like Tinkerbell and Captain Hook. \nThe production is directed by theatre instructor Hope Hargrove\, who says the show highlights the creativity and talent of ASU-Beebe students. \nOrganizers say the performance is perfect for audiences of all ages and showcases the college’s strong commitment to the arts and community engagement. \n📢 HAVE INFORMATION YOU WOULD LIKE TO SHARE? Submit your event to the ArkansasRadio.com radio stations at https://arkansasradio.com/submit-event/
URL:https://arkansasradio.com/event/meta-title-asu-beebe-theatre-presents-student-adaptation-of-peter-pan-april-23-26/
ATTACH;FMTTYPE=image/jpeg:https://arkansasradio.com/wp-content/uploads/2026/04/ASU-Beebe-theatre-students-practice-for-the-upcoming-production-of-Peter-Pan-to-be-held-April-23-26-in-the-Owen-Center-theater-1.jpg
END:VEVENT
BEGIN:VEVENT
DTSTART;TZID=UTC:20260423T180000
DTEND;TZID=UTC:20260423T200000
DTSTAMP:20260423T012235
CREATED:20260422T171145Z
LAST-MODIFIED:20260422T171145Z
UID:16506-1776967200-1776974400@arkansasradio.com
SUMMARY:Jacob’s Place Annual Banquet and Auction Set for April 23 in Judsonia Arkansas
DESCRIPTION:Jacob’s Place is inviting the community to come together for an evening of purpose and generosity at its Growing Seeds of Change Annual Banquet and Auction on April 23 from 6 to 8 PM. \n \nThe event will be held at The Box Factory\, 106 Van Buren Street in Judsonia Arkansas\, and will focus on raising support for families in need throughout the area. \nOrganizers say the banquet is more than just a fundraiser — it’s a chance to bring the community together to make a lasting impact. Guests can expect an evening filled with fellowship\, giving opportunities\, and a shared mission of planting hope for families in our community. \nTables and tickets are now available by calling 501-380-8283. Community members are encouraged to attend and support the ongoing work of Jacob’s Place. \nWith strong local support\, the organization continues to grow its outreach and services\, helping families across White County and surrounding communities. \nIf you HAVE INFORMATION YOU WOULD LIKE TO SHARE with the ArkansasRadio.com radio stations submit your event at https://arkansasradio.com/submit-event/
URL:https://arkansasradio.com/event/jacobs-place-annual-banquet-and-auction-set-for-april-23-in-judsonia-arkansas/
ATTACH;FMTTYPE=image/jpeg:https://arkansasradio.com/wp-content/uploads/2026/04/Jacobs-Place-Banquet-Judsonia-Arkansas-1.jpg
END:VEVENT
END:VCALENDAR